BEGIN:VCALENDAR
VERSION:2.0
PRODID:-//wp-events-plugin.com//7.2.3.1//EN
TZID:Europe/Berlin
X-WR-TIMEZONE:Europe/Berlin
BEGIN:VEVENT
UID:1-142@mtp.org
DTSTART;TZID=Europe/Berlin:20231219T190000
DTEND;TZID=Europe/Berlin:20231219T203000
DTSTAMP:20230914T102709Z
URL:https://www.mtp.org/veranstaltungen/aktuelle_events/gs-mannheim-plenum
 -2023-12-19/
SUMMARY:GS Mannheim - Plenum
DESCRIPTION:Plenum\n\n\nDienstags 19:00 Uhr\no151\, Schloss Mannheim\nÜber
  den LinkTree in unserer Instagram-Bio findest du die Anmeldung!\n\n
ATTACH;FMTTYPE=image/jpeg:https://www.mtp.org/wp-content/uploads/2023/07/M
 TP_GS-Logo_Mannheim_Standard_RGB.png
CATEGORIES:GS Mannheim,Plenum
LOCATION:GS Mannheim\, Postfach 103462\, Mannheim\, 68131\, Deutschland
X-APPLE-STRUCTURED-LOCATION;VALUE=URI;X-ADDRESS=Postfach 103462\, Mannheim\
 , 68131\, Deutschland;X-APPLE-RADIUS=100;X-TITLE=GS Mannheim:geo:0,0
END:VEVENT
BEGIN:VTIMEZONE
TZID:Europe/Berlin
X-LIC-LOCATION:Europe/Berlin
BEGIN:STANDARD
DTSTART:20231029T020000
TZOFFSETFROM:+0200
TZOFFSETTO:+0100
TZNAME:CET
END:STANDARD
END:VTIMEZONE
END:VCALENDAR