BEGIN:VCALENDAR
VERSION:2.0
PRODID:-//wp-events-plugin.com//7.2.3.1//EN
TZID:Europe/Berlin
X-WR-TIMEZONE:Europe/Berlin
BEGIN:VEVENT
UID:1-167@mtp.org
DTSTART;TZID=Europe/Berlin:20231129T190000
DTEND;TZID=Europe/Berlin:20231129T203000
DTSTAMP:20230914T102804Z
URL:https://www.mtp.org/veranstaltungen/aktuelle_events/gs-muenchen-plenum
 -2023-11-29/
SUMMARY:GS München - Plenum
DESCRIPTION:Technische Universität München\, Arcisstr. 21\, 80333 Münche
 n\, Raum 0544.\nZeit\, sofern nicht anders angegeben: 19:00 Uhr.
ATTACH;FMTTYPE=image/jpeg:https://www.mtp.org/wp-content/uploads/2023/07/M
 TP_GS-Logo_Muenchen_Standard_RGB.png
CATEGORIES:GS München,Plenum
LOCATION:GS München\, Arcisstraße 21\, München\, 80333\, Deutschland
X-APPLE-STRUCTURED-LOCATION;VALUE=URI;X-ADDRESS=Arcisstraße 21\, München\
 , 80333\, Deutschland;X-APPLE-RADIUS=100;X-TITLE=GS München:geo:0,0
END:VEVENT
BEGIN:VTIMEZONE
TZID:Europe/Berlin
X-LIC-LOCATION:Europe/Berlin
BEGIN:STANDARD
DTSTART:20231029T020000
TZOFFSETFROM:+0200
TZOFFSETTO:+0100
TZNAME:CET
END:STANDARD
END:VTIMEZONE
END:VCALENDAR