BEGIN:VCALENDAR
VERSION:2.0
PRODID:-//wp-events-plugin.com//7.2.3.1//EN
TZID:Europe/Berlin
X-WR-TIMEZONE:Europe/Berlin
BEGIN:VEVENT
UID:0-383@mtp.org
DTSTART;TZID=Europe/Berlin:20250623T190000
DTEND;TZID=Europe/Berlin:20250623T200000
DTSTAMP:20250508T051327Z
URL:https://www.mtp.org/veranstaltungen/aktuelle_events/mtp-x-marketing-cl
 ub/
SUMMARY:MTP x Marketing Club
DESCRIPTION:Kontakt zur GS Leipzig
ATTACH;FMTTYPE=image/jpeg:https://www.mtp.org/wp-content/uploads/2023/07/M
 TP_GS-Logo_Leipzig_Standard_RGB.png
CATEGORIES:Alumniveranstaltung,GS Leipzig,Young Alumni Programme
END:VEVENT
BEGIN:VTIMEZONE
TZID:Europe/Berlin
X-LIC-LOCATION:Europe/Berlin
BEGIN:DAYLIGHT
DTSTART:20250330T030000
TZOFFSETFROM:+0100
TZOFFSETTO:+0200
TZNAME:CEST
END:DAYLIGHT
END:VTIMEZONE
END:VCALENDAR